BEGIN:VCALENDAR
VERSION:2.0
PRODID:-//Brennan Furlong Architects Dublin - ECPv6.15.14//NONSGML v1.0//EN
CALSCALE:GREGORIAN
METHOD:PUBLISH
X-ORIGINAL-URL:https://brennanfurlong.ie
X-WR-CALDESC:Events for Brennan Furlong Architects Dublin
REFRESH-INTERVAL;VALUE=DURATION:PT1H
X-Robots-Tag:noindex
X-PUBLISHED-TTL:PT1H
BEGIN:VTIMEZONE
TZID:Europe/Dublin
BEGIN:STANDARD
TZOFFSETFROM:+0000
TZOFFSETTO:+0100
TZNAME:IST
DTSTART:20240331T010000
END:STANDARD
BEGIN:DAYLIGHT
TZOFFSETFROM:+0100
TZOFFSETTO:+0000
TZNAME:GMT
DTSTART:20241027T010000
END:DAYLIGHT
BEGIN:STANDARD
TZOFFSETFROM:+0000
TZOFFSETTO:+0100
TZNAME:IST
DTSTART:20250330T010000
END:STANDARD
BEGIN:DAYLIGHT
TZOFFSETFROM:+0100
TZOFFSETTO:+0000
TZNAME:GMT
DTSTART:20251026T010000
END:DAYLIGHT
BEGIN:STANDARD
TZOFFSETFROM:+0000
TZOFFSETTO:+0100
TZNAME:IST
DTSTART:20260329T010000
END:STANDARD
BEGIN:DAYLIGHT
TZOFFSETFROM:+0100
TZOFFSETTO:+0000
TZNAME:GMT
DTSTART:20261025T010000
END:DAYLIGHT
BEGIN:STANDARD
TZOFFSETFROM:+0000
TZOFFSETTO:+0100
TZNAME:IST
DTSTART:20270328T010000
END:STANDARD
BEGIN:DAYLIGHT
TZOFFSETFROM:+0100
TZOFFSETTO:+0000
TZNAME:GMT
DTSTART:20271031T010000
END:DAYLIGHT
END:VTIMEZONE
BEGIN:VEVENT
DTSTART;TZID=Europe/Dublin:20251016T170000
DTEND;TZID=Europe/Dublin:20251016T200000
DTSTAMP:20260422T235148
CREATED:20260119T163521Z
LAST-MODIFIED:20260119T163521Z
UID:214-1760634000-1760644800@brennanfurlong.ie
SUMMARY:IAF Open Studios: Brennan Furlong
DESCRIPTION:Join us at our studio in Clontarf where we will be showcasing our domestic and urban infill projects\, our examination of ideas around improving the public realm around the junction of Vernon Avenue and the Clontarf Promenade and our work in Howth\, currently on display as part of the Time Space Existence exhibition in Venice. Please drop in any time between 5pm and 8pm for a tour of our workspace\, take a look at our projects\, models and sketches and have a chat with our team. \nOther studios taking place on Thursday 16th October: \n\nBDP (Building Design Partnership)\n\nThis is an Open Studios visit between 5 & 8pm. When booking we ask that you let us know what time you think you will drop in so that we can monitor the number of expected visitors. There may be a short wait to enter on arrival depending on how many people are visiting so please be patient with our volunteers. It’s worth the wait!
URL:https://brennanfurlong.ie/event/iaf-open-studios-brennan-furlong/
LOCATION:Brennan Furlong\, Vernon House\, 2 Vernon Avenue\, Clontarf\,\, Dublin\, Dublin 3\, D03 P6D0\, Ireland
ATTACH;FMTTYPE=image/jpeg:https://brennanfurlong.ie/wp-content/uploads/2026/01/open-house-studio-tour-2025.jpg
END:VEVENT
BEGIN:VEVENT
DTSTART;TZID=Europe/Dublin:20251018T100000
DTEND;TZID=Europe/Dublin:20251018T133000
DTSTAMP:20260422T235148
CREATED:20260119T162908Z
LAST-MODIFIED:20260217T131452Z
UID:209-1760781600-1760794200@brennanfurlong.ie
SUMMARY:IAF Open House Event - Moat Lane
DESCRIPTION:Built on a budget as her new home in the garden of our clients’ childhood home\, Moat Lane responds to emotional attachments\, tricky site geometries\, pre-established neighbouring privacies and pre-existing surrounding urban materiality – the calp stone and red brick of 19th century boundaries and the profiled metal hulks of 20th century car-repair garages.\n\nMeeting point: Front Gate of 1a Moat Lane\, Clontarf. Look out for Open House Dublin Volunteers who will manage queues and entry for the tours.\n\nPre-Book Only\n\nAccessibility Information\nWheelchair accessible\nAccessible Toilets\nAssistance Dogs welcome\n\nThe building is a new house\, so is fully Part M compliant with level access and an accessible toilet. The landscaping to the site may not be complete\, so external ground surfaces may be uneven and the tour may provide opportunity to view the first floor level\, accessible via stairs only.\nThe building is located on a mews lane which is roughly surfaced in parts.\n\nTours begin at 10:00AM\, with last tour at 1:30PM\n\nTours every 30 minutes – Tour last 30 minutes
URL:https://brennanfurlong.ie/event/moat-lane-open-house/
LOCATION:Moat Lane\, Moat Ln\, Clontarf East\, Dublin\, Ireland
ATTACH;FMTTYPE=image/jpeg:https://brennanfurlong.ie/wp-content/uploads/2026/01/open-house-moat-lane.jpg
END:VEVENT
BEGIN:VEVENT
DTSTART;TZID=Europe/Dublin:20251019T100000
DTEND;TZID=Europe/Dublin:20251019T133000
DTSTAMP:20260422T235148
CREATED:20260119T163756Z
LAST-MODIFIED:20260330T162122Z
UID:218-1760868000-1760880600@brennanfurlong.ie
SUMMARY:IAF Open House Event – House by the Sea
DESCRIPTION:“House by the Sea” in Sutton was built in the mid-20th century in the garden of an 1850’s seaside villa. Designed as a house for himself and his family by the Chief Schools Architect with the OPW\, Basil Boyd-Barrett\, our clients approached us to re-work the house as a comfortable family home that takes advantage of its location and spectacular views. \nThe tour will commence in the front garden and from there proceed indoors and up a new staircase to the first floor\, where the flipped approach of our design has created a large open-plan kitchen / living / dining space. A ribbon-like mezzanine floats above this space\, hugging the underside of the exposed glu-lam roof structure. \nFrom here the tour will lead visitors out onto the restored balcony which runs the length of the front façade and connects to the elevated terrace located on the roof of the garage\, as per Boyd Barrett’s original sketches. From here a new external staircase leads back down to the re-landscaped gardens where the tour concludes. \nPre-Book Only
URL:https://brennanfurlong.ie/event/iaf-open-house-st-fintans/
LOCATION:Brennan Furlong\, Vernon House\, 2 Vernon Avenue\, Clontarf\,\, Dublin\, Dublin 3\, D03 P6D0\, Ireland
ATTACH;FMTTYPE=image/webp:https://brennanfurlong.ie/wp-content/uploads/2026/03/architect-project-sutton-strand-house-refurbishment-10-1.webp
END:VEVENT
BEGIN:VEVENT
DTSTART;TZID=Europe/Dublin:20260413T093000
DTEND;TZID=Europe/Dublin:20260419T170000
DTSTAMP:20260422T235148
CREATED:20260330T123532Z
LAST-MODIFIED:20260331T114403Z
UID:6360-1776072600-1776618000@brennanfurlong.ie
SUMMARY:RIAI Simon Open Door 2026
DESCRIPTION:For the 17th year\, Brennan Furlong Architects is proud to take part in RIAI Simon Open Door 2026\, a charitable initiative organised by the Royal Institute of the Architects of Ireland (RIAI) in partnership with the Simon Communities of Ireland.\n\nAs a RIAI Registered Architects practice\, we are donating our time and expertise to support this important campaign.\n\nThe initiative gives homeowners the opportunity to book a one-hour consultation with a RIAI Registered Architect in their local area. It is designed for anyone considering a home extension\, renovation\, retrofit\, energy upgrade or new build project\, and offers a useful first step in understanding what may be possible.\n\nIn return for a €125 donation\, participants receive professional advice on their home project\, including practical guidance on potential options and likely next steps. All participating architects volunteer their time free of charge\, and every cent raised goes directly to the Simon Communities of Ireland.\n\nRIAI Simon Open Door is a valuable opportunity to speak with a qualified architect before committing to a larger project. Building and renovating can be complex\, and an early conversation can help clarify priorities\, unlock a home’s potential\, and identify the most effective path forward.\nAbout the initiative\nThe Simon Communities of Ireland have been providing services and support for people experiencing homelessness in Ireland for almost 50 years.\n\nThe RIAI supports and regulates the architectural profession in Ireland\, promotes the value of architecture in society\, and helps ensure high standards of consumer protection through its register of qualified architects.\nRegistration is now open.\nMembers of the public are encouraged to book a consultation with a RIAI Registered Architect and support the work of the Simon Communities of Ireland at the same time.
URL:https://brennanfurlong.ie/event/riai-simon-open-door-2026/
LOCATION:Brennan Furlong\, Vernon House\, 2 Vernon Avenue\, Clontarf\,\, Dublin\, Dublin 3\, D03 P6D0\, Ireland
ATTACH;FMTTYPE=image/jpeg:https://brennanfurlong.ie/wp-content/uploads/2026/03/riai-simon-open-house-2026.jpg
ORGANIZER;CN="RIAI Simon Open Door":MAILTO:simon@riai.ie
END:VEVENT
END:VCALENDAR